Workbook

Sheet Lagerbestand
A1: Lagerbestand
A2: Firma: | D2: Lager: | G2: Anfangsbestand vom:
A4: Artikelnr. | B4: Bezeichnung | C4: Einheit | D4: Lagerplatz | E4: Anfangsbestand | F4: Zugänge | G4: Abgänge | H4: Bestand | I4: Meldebestand | J4: Einstandspreis | K4: Lagerwert | L4: Status
A5: T-EG | B5: Earl Grey 100 g | C5: Päckchen | D5: R1 | E5: 120 | F5: =IF(A5="","",SUMIFS(Bewegungen!$D$5:$D$3004,Bewegungen!$B$5:$B$3004,A5,Bewegungen!$C$5:$C$3004,"Zugang")) | G5: =IF(A5="","",SUMIFS(Bewegungen!$D$5:$D$3004,Bewegungen!$B$5:$B$3004,A5,Bewegungen!$C$5:$C$3004,"Abgang")) | H5: =IF(A5="","",E5+F5-G5) | I5: 60 | J5: 3.4 | K5: =IF(A5="","",H5*J5) | L5: =IF(A5="","",IF(H5<0,"PRÜFEN",IF(H5<=I5,"BESTELLEN","")))
A6: T-SE | B6: Sencha 100 g | C6: Päckchen | D6: R1 | E6: 80 | F6: =IF(A6="","",SUMIFS(Bewegungen!$D$5:$D$3004,Bewegungen!$B$5:$B$3004,A6,Bewegungen!$C$5:$C$3004,"Zugang")) | G6: =IF(A6="","",SUMIFS(Bewegungen!$D$5:$D$3004,Bewegungen!$B$5:$B$3004,A6,Bewegungen!$C$5:$C$3004,"Abgang")) | H6: =IF(A6="","",E6+F6-G6) | I6: 40 | J6: 4.1 | K6: =IF(A6="","",H6*J6) | L6: =IF(A6="","",IF(H6<0,"PRÜFEN",IF(H6<=I6,"BESTELLEN","")))
A7: T-RB | B7: Rooibos 100 g | C7: Päckchen | D7: R2 | E7: 60 | F7: =IF(A7="","",SUMIFS(Bewegungen!$D$5:$D$3004,Bewegungen!$B$5:$B$3004,A7,Bewegungen!$C$5:$C$3004,"Zugang")) | G7: =IF(A7="","",SUMIFS(Bewegungen!$D$5:$D$3004,Bewegungen!$B$5:$B$3004,A7,Bewegungen!$C$5:$C$3004,"Abgang")) | H7: =IF(A7="","",E7+F7-G7) | I7: 30 | J7: 2.8 | K7: =IF(A7="","",H7*J7) | L7: =IF(A7="","",IF(H7<0,"PRÜFEN",IF(H7<=I7,"BESTELLEN","")))
A8: T-CH | B8: Chai 250 g | C8: Päckchen | D8: R2 | E8: 40 | F8: =IF(A8="","",SUMIFS(Bewegungen!$D$5:$D$3004,Bewegungen!$B$5:$B$3004,A8,Bewegungen!$C$5:$C$3004,"Zugang")) | G8: =IF(A8="","",SUMIFS(Bewegungen!$D$5:$D$3004,Bewegungen!$B$5:$B$3004,A8,Bewegungen!$C$5:$C$3004,"Abgang")) | H8: =IF(A8="","",E8+F8-G8) | I8: 25 | J8: 6.9 | K8: =IF(A8="","",H8*J8) | L8: =IF(A8="","",IF(H8<0,"PRÜFEN",IF(H8<=I8,"BESTELLEN","")))
A9: Z-TS | B9: Teesieb Edelstahl | C9: Stück | D9: Z1 | E9: 30 | F9: =IF(A9="","",SUMIFS(Bewegungen!$D$5:$D$3004,Bewegungen!$B$5:$B$3004,A9,Bewegungen!$C$5:$C$3004,"Zugang")) | G9: =IF(A9="","",SUMIFS(Bewegungen!$D$5:$D$3004,Bewegungen!$B$5:$B$3004,A9,Bewegungen!$C$5:$C$3004,"Abgang")) | H9: =IF(A9="","",E9+F9-G9) | I9: 10 | J9: 1.95 | K9: =IF(A9="","",H9*J9) | L9: =IF(A9="","",IF(H9<0,"PRÜFEN",IF(H9<=I9,"BESTELLEN","")))
F10: =IF(A10="","",SUMIFS(Bewegungen!$D$5:$D$3004,Bewegungen!$B$5:$B$3004,A10,Bewegungen!$C$5:$C$3004,"Zugang")) | G10: =IF(A10="","",SUMIFS(Bewegungen!$D$5:$D$3004,Bewegungen!$B$5:$B$3004,A10,Bewegungen!$C$5:$C$3004,"Abgang")) | H10: =IF(A10="","",E10+F10-G10) | K10: =IF(A10="","",H10*J10) | L10: =IF(A10="","",IF(H10<0,"PRÜFEN",IF(H10<=I10,"BESTELLEN","")))
F11: =IF(A11="","",SUMIFS(Bewegungen!$D$5:$D$3004,Bewegungen!$B$5:$B$3004,A11,Bewegungen!$C$5:$C$3004,"Zugang")) | G11: =IF(A11="","",SUMIFS(Bewegungen!$D$5:$D$3004,Bewegungen!$B$5:$B$3004,A11,Bewegungen!$C$5:$C$3004,"Abgang")) | H11: =IF(A11="","",E11+F11-G11) | K11: =IF(A11="","",H11*J11) | L11: =IF(A11="","",IF(H11<0,"PRÜFEN",IF(H11<=I11,"BESTELLEN","")))
F12: =IF(A12="","",SUMIFS(Bewegungen!$D$5:$D$3004,Bewegungen!$B$5:$B$3004,A12,Bewegungen!$C$5:$C$3004,"Zugang")) | G12: =IF(A12="","",SUMIFS(Bewegungen!$D$5:$D$3004,Bewegungen!$B$5:$B$3004,A12,Bewegungen!$C$5:$C$3004,"Abgang")) | H12: =IF(A12="","",E12+F12-G12) | K12: =IF(A12="","",H12*J12) | L12: =IF(A12="","",IF(H12<0,"PRÜFEN",IF(H12<=I12,"BESTELLEN","")))
F13: =IF(A13="","",SUMIFS(Bewegungen!$D$5:$D$3004,Bewegungen!$B$5:$B$3004,A13,Bewegungen!$C$5:$C$3004,"Zugang")) | G13: =IF(A13="","",SUMIFS(Bewegungen!$D$5:$D$3004,Bewegungen!$B$5:$B$3004,A13,Bewegungen!$C$5:$C$3004,"Abgang")) | H13: =IF(A13="","",E13+F13-G13) | K13: =IF(A13="","",H13*J13) | L13: =IF(A13="","",IF(H13<0,"PRÜFEN",IF(H13<=I13,"BESTELLEN","")))
F14: =IF(A14="","",SUMIFS(Bewegungen!$D$5:$D$3004,Bewegungen!$B$5:$B$3004,A14,Bewegungen!$C$5:$C$3004,"Zugang")) | G14: =IF(A14="","",SUMIFS(Bewegungen!$D$5:$D$3004,Bewegungen!$B$5:$B$3004,A14,Bewegungen!$C$5:$C$3004,"Abgang")) | H14: =IF(A14="","",E14+F14-G14) | K14: =IF(A14="","",H14*J14) | L14: =IF(A14="","",IF(H14<0,"PRÜFEN",IF(H14<=I14,"BESTELLEN","")))
F15: =IF(A15="","",SUMIFS(Bewegungen!$D$5:$D$3004,Bewegungen!$B$5:$B$3004,A15,Bewegungen!$C$5:$C$3004,"Zugang")) | G15: =IF(A15="","",SUMIFS(Bewegungen!$D$5:$D$3004,Bewegungen!$B$5:$B$3004,A15,Bewegungen!$C$5:$C$3004,"Abgang")) | H15: =IF(A15="","",E15+F15-G15) | K15: =IF(A15="","",H15*J15) | L15: =IF(A15="","",IF(H15<0,"PRÜFEN",IF(H15<=I15,"BESTELLEN","")))
F16: =IF(A16="","",SUMIFS(Bewegungen!$D$5:$D$3004,Bewegungen!$B$5:$B$3004,A16,Bewegungen!$C$5:$C$3004,"Zugang")) | G16: =IF(A16="","",SUMIFS(Bewegungen!$D$5:$D$3004,Bewegungen!$B$5:$B$3004,A16,Bewegungen!$C$5:$C$3004,"Abgang")) | H16: =IF(A16="","",E16+F16-G16) | K16: =IF(A16="","",H16*J16) | L16: =IF(A16="","",IF(H16<0,"PRÜFEN",IF(H16<=I16,"BESTELLEN","")))
F17: =IF(A17="","",SUMIFS(Bewegungen!$D$5:$D$3004,Bewegungen!$B$5:$B$3004,A17,Bewegungen!$C$5:$C$3004,"Zugang")) | G17: =IF(A17="","",SUMIFS(Bewegungen!$D$5:$D$3004,Bewegungen!$B$5:$B$3004,A17,Bewegungen!$C$5:$C$3004,"Abgang")) | H17: =IF(A17="","",E17+F17-G17) | K17: =IF(A17="","",H17*J17) | L17: =IF(A17="","",IF(H17<0,"PRÜFEN",IF(H17<=I17,"BESTELLEN","")))
F18: =IF(A18="","",SUMIFS(Bewegungen!$D$5:$D$3004,Bewegungen!$B$5:$B$3004,A18,Bewegungen!$C$5:$C$3004,"Zugang")) | G18: =IF(A18="","",SUMIFS(Bewegungen!$D$5:$D$3004,Bewegungen!$B$5:$B$3004,A18,Bewegungen!$C$5:$C$3004,"Abgang")) | H18: =IF(A18="","",E18+F18-G18) | K18: =IF(A18="","",H18*J18) | L18: =IF(A18="","",IF(H18<0,"PRÜFEN",IF(H18<=I18,"BESTELLEN","")))
F19: =IF(A19="","",SUMIFS(Bewegungen!$D$5:$D$3004,Bewegungen!$B$5:$B$3004,A19,Bewegungen!$C$5:$C$3004,"Zugang")) | G19: =IF(A19="","",SUMIFS(Bewegungen!$D$5:$D$3004,Bewegungen!$B$5:$B$3004,A19,Bewegungen!$C$5:$C$3004,"Abgang")) | H19: =IF(A19="","",E19+F19-G19) | K19: =IF(A19="","",H19*J19) | L19: =IF(A19="","",IF(H19<0,"PRÜFEN",IF(H19<=I19,"BESTELLEN","")))
F20: =IF(A20="","",SUMIFS(Bewegungen!$D$5:$D$3004,Bewegungen!$B$5:$B$3004,A20,Bewegungen!$C$5:$C$3004,"Zugang")) | G20: =IF(A20="","",SUMIFS(Bewegungen!$D$5:$D$3004,Bewegungen!$B$5:$B$3004,A20,Bewegungen!$C$5:$C$3004,"Abgang")) | H20: =IF(A20="","",E20+F20-G20) | K20: =IF(A20="","",H20*J20) | L20: =IF(A20="","",IF(H20<0,"PRÜFEN",IF(H20<=I20,"BESTELLEN","")))
F21: =IF(A21="","",SUMIFS(Bewegungen!$D$5:$D$3004,Bewegungen!$B$5:$B$3004,A21,Bewegungen!$C$5:$C$3004,"Zugang")) | G21: =IF(A21="","",SUMIFS(Bewegungen!$D$5:$D$3004,Bewegungen!$B$5:$B$3004,A21,Bewegungen!$C$5:$C$3004,"Abgang")) | H21: =IF(A21="","",E21+F21-G21) | K21: =IF(A21="","",H21*J21) | L21: =IF(A21="","",IF(H21<0,"PRÜFEN",IF(H21<=I21,"BESTELLEN","")))
... F504: =IF(A504="","",SUMIFS(Bewegungen!$D$5:$D$3004,Bewegungen!$B$5:$B$3004,A504,Bewegungen!$C$5:$C$3004,"Zugang")) | G504: =IF(A504="","",SUMIFS(Bewegungen!$D$5:$D$3004,Bewegungen!$B$5:$B$3004,A504,Bewegungen!$C$5:$C$3004,"Abgang")) | H504: =IF(A504="","",E504+F504-G504) | K504: =IF(A504="","",H504*J504) | L504: =IF(A504="","",IF(H504<0,"PRÜFEN",IF(H504<=I504,"BESTELLEN","")))

Sheet Bewegungen
A1: Bewegungen — Zugänge und Abgänge
A2: Eine Zeile je Wareneingang oder Verkauf. Art: Zugang oder Abgang.
A4: Datum | B4: Artikelnr. | C4: Art | D4: Menge | E4: Beleg | F4: Bemerkung | G4: Bezeichnung
A5: 46267 | B5: T-EG | C5: Abgang | D5: 80 | E5: Verkäufe KW 36 | G5: =IF(B5="","",IFERROR(VLOOKUP(B5,Lagerbestand!$A$5:$B$504,2,FALSE),"unbekannte Artikelnr."))
A6: 46267 | B6: T-SE | C6: Abgang | D6: 30 | E6: Verkäufe KW 36 | G6: =IF(B6="","",IFERROR(VLOOKUP(B6,Lagerbestand!$A$5:$B$504,2,FALSE),"unbekannte Artikelnr."))
A7: 46270 | B7: T-RB | C7: Abgang | D7: 20 | E7: Verkäufe KW 36 | G7: =IF(B7="","",IFERROR(VLOOKUP(B7,Lagerbestand!$A$5:$B$504,2,FALSE),"unbekannte Artikelnr."))
A8: 46273 | B8: T-EG | C8: Zugang | D8: 200 | E8: Lieferschein 4711 | G8: =IF(B8="","",IFERROR(VLOOKUP(B8,Lagerbestand!$A$5:$B$504,2,FALSE),"unbekannte Artikelnr."))
A9: 46274 | B9: T-CH | C9: Abgang | D9: 35 | E9: Verkäufe KW 37 | G9: =IF(B9="","",IFERROR(VLOOKUP(B9,Lagerbestand!$A$5:$B$504,2,FALSE),"unbekannte Artikelnr."))
A10: 46274 | B10: T-EG | C10: Abgang | D10: 90 | E10: Verkäufe KW 37 | G10: =IF(B10="","",IFERROR(VLOOKUP(B10,Lagerbestand!$A$5:$B$504,2,FALSE),"unbekannte Artikelnr."))
A11: 46277 | B11: T-RB | C11: Zugang | D11: 100 | E11: Lieferschein 4720 | G11: =IF(B11="","",IFERROR(VLOOKUP(B11,Lagerbestand!$A$5:$B$504,2,FALSE),"unbekannte Artikelnr."))
A12: 46281 | B12: T-SE | C12: Abgang | D12: 34 | E12: Verkäufe KW 38 | G12: =IF(B12="","",IFERROR(VLOOKUP(B12,Lagerbestand!$A$5:$B$504,2,FALSE),"unbekannte Artikelnr."))
A13: 46281 | B13: Z-TS | C13: Abgang | D13: 4 | E13: Verkäufe KW 38 | G13: =IF(B13="","",IFERROR(VLOOKUP(B13,Lagerbestand!$A$5:$B$504,2,FALSE),"unbekannte Artikelnr."))
A14: 46284 | B14: T-CH | C14: Zugang | D14: 50 | E14: Lieferschein 4731 | G14: =IF(B14="","",IFERROR(VLOOKUP(B14,Lagerbestand!$A$5:$B$504,2,FALSE),"unbekannte Artikelnr."))
A15: 46288 | B15: T-EG | C15: Abgang | D15: 75 | E15: Verkäufe KW 39 | G15: =IF(B15="","",IFERROR(VLOOKUP(B15,Lagerbestand!$A$5:$B$504,2,FALSE),"unbekannte Artikelnr."))
A16: 46288 | B16: T-RB | C16: Abgang | D16: 18 | E16: Verkäufe KW 39 | G16: =IF(B16="","",IFERROR(VLOOKUP(B16,Lagerbestand!$A$5:$B$504,2,FALSE),"unbekannte Artikelnr."))
A17: 46291 | B17: T-CH | C17: Abgang | D17: 36 | E17: Verkäufe KW 39 | G17: =IF(B17="","",IFERROR(VLOOKUP(B17,Lagerbestand!$A$5:$B$504,2,FALSE),"unbekannte Artikelnr."))
G18: =IF(B18="","",IFERROR(VLOOKUP(B18,Lagerbestand!$A$5:$B$504,2,FALSE),"unbekannte Artikelnr."))
G19: =IF(B19="","",IFERROR(VLOOKUP(B19,Lagerbestand!$A$5:$B$504,2,FALSE),"unbekannte Artikelnr."))
G20: =IF(B20="","",IFERROR(VLOOKUP(B20,Lagerbestand!$A$5:$B$504,2,FALSE),"unbekannte Artikelnr."))
G21: =IF(B21="","",IFERROR(VLOOKUP(B21,Lagerbestand!$A$5:$B$504,2,FALSE),"unbekannte Artikelnr."))
G22: =IF(B22="","",IFERROR(VLOOKUP(B22,Lagerbestand!$A$5:$B$504,2,FALSE),"unbekannte Artikelnr."))
G23: =IF(B23="","",IFERROR(VLOOKUP(B23,Lagerbestand!$A$5:$B$504,2,FALSE),"unbekannte Artikelnr."))
G24: =IF(B24="","",IFERROR(VLOOKUP(B24,Lagerbestand!$A$5:$B$504,2,FALSE),"unbekannte Artikelnr."))
G25: =IF(B25="","",IFERROR(VLOOKUP(B25,Lagerbestand!$A$5:$B$504,2,FALSE),"unbekannte Artikelnr."))
G26: =IF(B26="","",IFERROR(VLOOKUP(B26,Lagerbestand!$A$5:$B$504,2,FALSE),"unbekannte Artikelnr."))
G27: =IF(B27="","",IFERROR(VLOOKUP(B27,Lagerbestand!$A$5:$B$504,2,FALSE),"unbekannte Artikelnr."))
G28: =IF(B28="","",IFERROR(VLOOKUP(B28,Lagerbestand!$A$5:$B$504,2,FALSE),"unbekannte Artikelnr."))
G29: =IF(B29="","",IFERROR(VLOOKUP(B29,Lagerbestand!$A$5:$B$504,2,FALSE),"unbekannte Artikelnr."))
... G3004: =IF(B3004="","",IFERROR(VLOOKUP(B3004,Lagerbestand!$A$5:$B$504,2,FALSE),"unbekannte Artikelnr."))

Sheet Zusammenfassung
A1: Kennzahl | B1: Wert
A2: Artikel auf der Liste | B2: =COUNTA(Lagerbestand!$A$5:$A$504)
A3: Lagerwert gesamt | B3: =SUM(Lagerbestand!$K$5:$K$504)
A4: Zu bestellen (BESTELLEN) | B4: =COUNTIF(Lagerbestand!$L$5:$L$504,"BESTELLEN")
A5: Zu prüfen (Bestand unter null) | B5: =COUNTIF(Lagerbestand!$L$5:$L$504,"PRÜFEN")
A6: Bewegungen | B6: =COUNTA(Bewegungen!$B$5:$B$3004)

Sheet Anleitung
A1: Lagerbestand — Excel-Vorlage von Golden Inventory (inventory-system.com)
A3: 1. Blatt Lagerbestand: eine Zeile je Artikel — Artikelnummer, Bezeichnung,
A4: Einheit, Lagerplatz, der Anfangsbestand (zum Beispiel aus der letzten
A5: Inventur), der Meldebestand und der Einstandspreis.
A6: 2. Blatt Bewegungen: jeder Wareneingang und jeder Verkauf als eine Zeile —
A7: Datum, Artikelnummer, Art (Zugang oder Abgang), Menge, Beleg.
A8: Die Bezeichnung erscheint von selbst. "unbekannte Artikelnr." heißt:
A9: Diese Nummer steht nicht auf dem Blatt Lagerbestand.
A10: 3. Zugänge, Abgänge, Bestand und Lagerwert rechnet die Liste selbst:
A11: Bestand = Anfangsbestand + Zugänge − Abgänge.
A12: 4. Status BESTELLEN: Der Bestand ist auf oder unter dem Meldebestand.
A13: Status PRÜFEN: Es ging mehr ab, als da war — ein Zugang fehlt oder
... A25: Kostenlos, ohne Karte: https://inventory-system.com/app/inventory/register?from=/de/tools/lagerbestand-excel-vorlage/xlsx
