Workbook

Sheet Inventurliste
A1: Inventurliste
A2: Firma: | E2: Lager: | I2: Stichtag:
A3: Zählliste Nr.: | E3: Gezählt von: | I3: Kontrolliert von:
A5: Pos. | B5: Artikelnr. | C5: Bezeichnung | D5: Lagerplatz | E5: Einheit | F5: Soll | G5: Gezählt | H5: Differenz | I5: Einstandspreis | J5: Wert gezählt | K5: Differenzwert | L5: Bemerkung
A6: =IF(C6="","",ROW()-5) | B6: W-121 | C6: Mineralwasser 12 × 1,0 l | D6: A1 | E6: Kiste | F6: 180 | G6: 176 | H6: =IF(G6="","",G6-F6) | I6: 4.2 | J6: =IF(G6="","",G6*I6) | K6: =IF(G6="","",H6*I6)
A7: =IF(C7="","",ROW()-5) | B7: S-610 | C7: Apfelschorle 6 × 1,0 l | D7: A2 | E7: Kiste | F7: 95 | G7: 95 | H7: =IF(G7="","",G7-F7) | I7: 5.1 | J7: =IF(G7="","",G7*I7) | K7: =IF(G7="","",H7*I7)
A8: =IF(C8="","",ROW()-5) | B8: B-205 | C8: Pils 20 × 0,5 l | D8: B1 | E8: Kiste | F8: 140 | G8: 131 | H8: =IF(G8="","",G8-F8) | I8: 11.8 | J8: =IF(G8="","",G8*I8) | K8: =IF(G8="","",H8*I8)
A9: =IF(C9="","",ROW()-5) | B9: V-075 | C9: Weißwein 0,75 l | D9: C3 | E9: Flasche | F9: 240 | G9: 228 | H9: =IF(G9="","",G9-F9) | I9: 3.9 | J9: =IF(G9="","",G9*I9) | K9: =IF(G9="","",H9*I9)
A10: =IF(C10="","",ROW()-5) | B10: K-070 | C10: Whisky 0,7 l | D10: D1 | E10: Flasche | F10: 36 | G10: 31 | H10: =IF(G10="","",G10-F10) | I10: 18.5 | J10: =IF(G10="","",G10*I10) | K10: =IF(G10="","",H10*I10)
A11: =IF(C11="","",ROW()-5) | B11: E-024 | C11: Energydrink 24 × 0,25 l | D11: B4 | E11: Tray | F11: 60 | G11: 64 | H11: =IF(G11="","",G11-F11) | I11: 14.4 | J11: =IF(G11="","",G11*I11) | K11: =IF(G11="","",H11*I11)
A12: =IF(C12="","",ROW()-5) | H12: =IF(G12="","",G12-F12) | J12: =IF(G12="","",G12*I12) | K12: =IF(G12="","",H12*I12)
A13: =IF(C13="","",ROW()-5) | H13: =IF(G13="","",G13-F13) | J13: =IF(G13="","",G13*I13) | K13: =IF(G13="","",H13*I13)
A14: =IF(C14="","",ROW()-5) | H14: =IF(G14="","",G14-F14) | J14: =IF(G14="","",G14*I14) | K14: =IF(G14="","",H14*I14)
A15: =IF(C15="","",ROW()-5) | H15: =IF(G15="","",G15-F15) | J15: =IF(G15="","",G15*I15) | K15: =IF(G15="","",H15*I15)
A16: =IF(C16="","",ROW()-5) | H16: =IF(G16="","",G16-F16) | J16: =IF(G16="","",G16*I16) | K16: =IF(G16="","",H16*I16)
A17: =IF(C17="","",ROW()-5) | H17: =IF(G17="","",G17-F17) | J17: =IF(G17="","",G17*I17) | K17: =IF(G17="","",H17*I17)
A18: =IF(C18="","",ROW()-5) | H18: =IF(G18="","",G18-F18) | J18: =IF(G18="","",G18*I18) | K18: =IF(G18="","",H18*I18)
A19: =IF(C19="","",ROW()-5) | H19: =IF(G19="","",G19-F19) | J19: =IF(G19="","",G19*I19) | K19: =IF(G19="","",H19*I19)
A20: =IF(C20="","",ROW()-5) | H20: =IF(G20="","",G20-F20) | J20: =IF(G20="","",G20*I20) | K20: =IF(G20="","",H20*I20)
A21: =IF(C21="","",ROW()-5) | H21: =IF(G21="","",G21-F21) | J21: =IF(G21="","",G21*I21) | K21: =IF(G21="","",H21*I21)
A22: =IF(C22="","",ROW()-5) | H22: =IF(G22="","",G22-F22) | J22: =IF(G22="","",G22*I22) | K22: =IF(G22="","",H22*I22)
A23: =IF(C23="","",ROW()-5) | H23: =IF(G23="","",G23-F23) | J23: =IF(G23="","",G23*I23) | K23: =IF(G23="","",H23*I23)
... A305: =IF(C305="","",ROW()-5) | H305: =IF(G305="","",G305-F305) | J305: =IF(G305="","",G305*I305) | K305: =IF(G305="","",H305*I305)

Sheet Zusammenfassung
A1: Kennzahl | B1: Wert
A2: Artikel auf der Liste | B2: =COUNTA(Inventurliste!$C$6:$C$305)
A3: Gezählt | B3: =COUNT(Inventurliste!$G$6:$G$305)
A4: Nicht gezählt | B4: =SUMPRODUCT((Inventurliste!$C$6:$C$305<>"")*(Inventurliste!$G$6:$G$305=""))
A5: Sollwert der gezählten Artikel | B5: =SUMPRODUCT(--(Inventurliste!$G$6:$G$305<>""),Inventurliste!$F$6:$F$305,Inventurliste!$I$6:$I$305)
A6: Inventurwert (gezählt) | B6: =SUM(Inventurliste!$J$6:$J$305)
A7: Inventurdifferenz | B7: =SUM(Inventurliste!$K$6:$K$305)
A8: davon Minus | B8: =SUMIF(Inventurliste!$K$6:$K$305,"<0")
A9: davon Plus | B9: =SUMIF(Inventurliste!$K$6:$K$305,">0")
A10: Differenz in % vom Sollwert | B10: =IF(B5=0,"",B7/B5)

Sheet Anleitung
A1: Inventurliste — Vorlage von Golden Inventory (inventory-system.com)
A3: 1. Oben: Firma, Lager, Stichtag, Nummer der Zählliste, Zähler und Kontrolleur.
A4: 2. Eine Zeile je Artikel: Artikelnummer, Bezeichnung, Lagerplatz, Einheit,
A5: der Soll-Bestand aus Ihren Büchern und der Einstandspreis.
A6: 3. Drucken und zählen. Für eine Blindzählung blenden Sie die Spalte Soll
A7: vor dem Druck aus — dann wird gezählt statt abgehakt.
A8: 4. Die gezählte Menge in die Spalte Gezählt. Eine leere Zelle heißt:
A9: nicht gezählt. Sie ist keine Null und geht in keine Summe ein.
A10: 5. Differenz, Wert und Differenzwert rechnet die Liste selbst.
A11: Sortieren Sie nach Differenzwert und zählen Sie die größten Zeilen nach.
A12: 6. Blatt Zusammenfassung: Inventurwert, Inventurdifferenz und die
A13: Zeilen, die noch nicht gezählt sind.
... A21: Kostenlos, ohne Karte: https://inventory-system.com/app/inventory/register?from=/de/tools/inventurliste-vorlage/xlsx
