Workbook

Sheet ABC
A1: Code | B1: Item | C1: Yearly value | D1: Share | E1: Share above | F1: Cumulative share | G1: Class | I1: Lines
A2: DF-20 | B2: Dog food 20 kg | C2: 38000 | D2: =IF(N(C2)>0,C2/SUMIF($C$2:$C$501,">0"),"") | E2: =IF(N(C2)>0,(SUMIF($C$2:$C$501,">"&C2)+C2*(COUNTIF($C$2:C2,C2)-1))/SUMIF($C$2:$C$501,">0"),"") | F2: =IF(N(C2)>0,E2+D2,"") | G2: =IF(C2="","",IF(NOT(N(C2)>0),"C",IF(E2<$J$2,"A",IF(E2<$J$3,"B","C")))) | I2: A line | J2: 0.8
A3: CF-10 | B3: Cat food 10 kg | C3: 24000 | D3: =IF(N(C3)>0,C3/SUMIF($C$2:$C$501,">0"),"") | E3: =IF(N(C3)>0,(SUMIF($C$2:$C$501,">"&C3)+C3*(COUNTIF($C$2:C3,C3)-1))/SUMIF($C$2:$C$501,">0"),"") | F3: =IF(N(C3)>0,E3+D3,"") | G3: =IF(C3="","",IF(NOT(N(C3)>0),"C",IF(E3<$J$2,"A",IF(E3<$J$3,"B","C")))) | I3: B line | J3: 0.95
A4: CL-12 | B4: Cat litter | C4: 14000 | D4: =IF(N(C4)>0,C4/SUMIF($C$2:$C$501,">0"),"") | E4: =IF(N(C4)>0,(SUMIF($C$2:$C$501,">"&C4)+C4*(COUNTIF($C$2:C4,C4)-1))/SUMIF($C$2:$C$501,">0"),"") | F4: =IF(N(C4)>0,E4+D4,"") | G4: =IF(C4="","",IF(NOT(N(C4)>0),"C",IF(E4<$J$2,"A",IF(E4<$J$3,"B","C"))))
A5: DT-01 | B5: Dog treats | C5: 9000 | D5: =IF(N(C5)>0,C5/SUMIF($C$2:$C$501,">0"),"") | E5: =IF(N(C5)>0,(SUMIF($C$2:$C$501,">"&C5)+C5*(COUNTIF($C$2:C5,C5)-1))/SUMIF($C$2:$C$501,">0"),"") | F5: =IF(N(C5)>0,E5+D5,"") | G5: =IF(C5="","",IF(NOT(N(C5)>0),"C",IF(E5<$J$2,"A",IF(E5<$J$3,"B","C"))))
A6: BS-05 | B6: Bird seed | C6: 5000 | D6: =IF(N(C6)>0,C6/SUMIF($C$2:$C$501,">0"),"") | E6: =IF(N(C6)>0,(SUMIF($C$2:$C$501,">"&C6)+C6*(COUNTIF($C$2:C6,C6)-1))/SUMIF($C$2:$C$501,">0"),"") | F6: =IF(N(C6)>0,E6+D6,"") | G6: =IF(C6="","",IF(NOT(N(C6)>0),"C",IF(E6<$J$2,"A",IF(E6<$J$3,"B","C"))))
A7: LC-01 | B7: Leads and collars | C7: 4000 | D7: =IF(N(C7)>0,C7/SUMIF($C$2:$C$501,">0"),"") | E7: =IF(N(C7)>0,(SUMIF($C$2:$C$501,">"&C7)+C7*(COUNTIF($C$2:C7,C7)-1))/SUMIF($C$2:$C$501,">0"),"") | F7: =IF(N(C7)>0,E7+D7,"") | G7: =IF(C7="","",IF(NOT(N(C7)>0),"C",IF(E7<$J$2,"A",IF(E7<$J$3,"B","C"))))
A8: AF-01 | B8: Aquarium filters | C8: 2500 | D8: =IF(N(C8)>0,C8/SUMIF($C$2:$C$501,">0"),"") | E8: =IF(N(C8)>0,(SUMIF($C$2:$C$501,">"&C8)+C8*(COUNTIF($C$2:C8,C8)-1))/SUMIF($C$2:$C$501,">0"),"") | F8: =IF(N(C8)>0,E8+D8,"") | G8: =IF(C8="","",IF(NOT(N(C8)>0),"C",IF(E8<$J$2,"A",IF(E8<$J$3,"B","C"))))
A9: TY-01 | B9: Toys | C9: 1500 | D9: =IF(N(C9)>0,C9/SUMIF($C$2:$C$501,">0"),"") | E9: =IF(N(C9)>0,(SUMIF($C$2:$C$501,">"&C9)+C9*(COUNTIF($C$2:C9,C9)-1))/SUMIF($C$2:$C$501,">0"),"") | F9: =IF(N(C9)>0,E9+D9,"") | G9: =IF(C9="","",IF(NOT(N(C9)>0),"C",IF(E9<$J$2,"A",IF(E9<$J$3,"B","C"))))
A10: FF-01 | B10: Fish food | C10: 1200 | D10: =IF(N(C10)>0,C10/SUMIF($C$2:$C$501,">0"),"") | E10: =IF(N(C10)>0,(SUMIF($C$2:$C$501,">"&C10)+C10*(COUNTIF($C$2:C10,C10)-1))/SUMIF($C$2:$C$501,">0"),"") | F10: =IF(N(C10)>0,E10+D10,"") | G10: =IF(C10="","",IF(NOT(N(C10)>0),"C",IF(E10<$J$2,"A",IF(E10<$J$3,"B","C"))))
A11: GB-01 | B11: Grooming brushes | C11: 800 | D11: =IF(N(C11)>0,C11/SUMIF($C$2:$C$501,">0"),"") | E11: =IF(N(C11)>0,(SUMIF($C$2:$C$501,">"&C11)+C11*(COUNTIF($C$2:C11,C11)-1))/SUMIF($C$2:$C$501,">0"),"") | F11: =IF(N(C11)>0,E11+D11,"") | G11: =IF(C11="","",IF(NOT(N(C11)>0),"C",IF(E11<$J$2,"A",IF(E11<$J$3,"B","C"))))
D12: =IF(N(C12)>0,C12/SUMIF($C$2:$C$501,">0"),"") | E12: =IF(N(C12)>0,(SUMIF($C$2:$C$501,">"&C12)+C12*(COUNTIF($C$2:C12,C12)-1))/SUMIF($C$2:$C$501,">0"),"") | F12: =IF(N(C12)>0,E12+D12,"") | G12: =IF(C12="","",IF(NOT(N(C12)>0),"C",IF(E12<$J$2,"A",IF(E12<$J$3,"B","C"))))
D13: =IF(N(C13)>0,C13/SUMIF($C$2:$C$501,">0"),"") | E13: =IF(N(C13)>0,(SUMIF($C$2:$C$501,">"&C13)+C13*(COUNTIF($C$2:C13,C13)-1))/SUMIF($C$2:$C$501,">0"),"") | F13: =IF(N(C13)>0,E13+D13,"") | G13: =IF(C13="","",IF(NOT(N(C13)>0),"C",IF(E13<$J$2,"A",IF(E13<$J$3,"B","C"))))
D14: =IF(N(C14)>0,C14/SUMIF($C$2:$C$501,">0"),"") | E14: =IF(N(C14)>0,(SUMIF($C$2:$C$501,">"&C14)+C14*(COUNTIF($C$2:C14,C14)-1))/SUMIF($C$2:$C$501,">0"),"") | F14: =IF(N(C14)>0,E14+D14,"") | G14: =IF(C14="","",IF(NOT(N(C14)>0),"C",IF(E14<$J$2,"A",IF(E14<$J$3,"B","C"))))
D15: =IF(N(C15)>0,C15/SUMIF($C$2:$C$501,">0"),"") | E15: =IF(N(C15)>0,(SUMIF($C$2:$C$501,">"&C15)+C15*(COUNTIF($C$2:C15,C15)-1))/SUMIF($C$2:$C$501,">0"),"") | F15: =IF(N(C15)>0,E15+D15,"") | G15: =IF(C15="","",IF(NOT(N(C15)>0),"C",IF(E15<$J$2,"A",IF(E15<$J$3,"B","C"))))
D16: =IF(N(C16)>0,C16/SUMIF($C$2:$C$501,">0"),"") | E16: =IF(N(C16)>0,(SUMIF($C$2:$C$501,">"&C16)+C16*(COUNTIF($C$2:C16,C16)-1))/SUMIF($C$2:$C$501,">0"),"") | F16: =IF(N(C16)>0,E16+D16,"") | G16: =IF(C16="","",IF(NOT(N(C16)>0),"C",IF(E16<$J$2,"A",IF(E16<$J$3,"B","C"))))
D17: =IF(N(C17)>0,C17/SUMIF($C$2:$C$501,">0"),"") | E17: =IF(N(C17)>0,(SUMIF($C$2:$C$501,">"&C17)+C17*(COUNTIF($C$2:C17,C17)-1))/SUMIF($C$2:$C$501,">0"),"") | F17: =IF(N(C17)>0,E17+D17,"") | G17: =IF(C17="","",IF(NOT(N(C17)>0),"C",IF(E17<$J$2,"A",IF(E17<$J$3,"B","C"))))
D18: =IF(N(C18)>0,C18/SUMIF($C$2:$C$501,">0"),"") | E18: =IF(N(C18)>0,(SUMIF($C$2:$C$501,">"&C18)+C18*(COUNTIF($C$2:C18,C18)-1))/SUMIF($C$2:$C$501,">0"),"") | F18: =IF(N(C18)>0,E18+D18,"") | G18: =IF(C18="","",IF(NOT(N(C18)>0),"C",IF(E18<$J$2,"A",IF(E18<$J$3,"B","C"))))
D19: =IF(N(C19)>0,C19/SUMIF($C$2:$C$501,">0"),"") | E19: =IF(N(C19)>0,(SUMIF($C$2:$C$501,">"&C19)+C19*(COUNTIF($C$2:C19,C19)-1))/SUMIF($C$2:$C$501,">0"),"") | F19: =IF(N(C19)>0,E19+D19,"") | G19: =IF(C19="","",IF(NOT(N(C19)>0),"C",IF(E19<$J$2,"A",IF(E19<$J$3,"B","C"))))
D20: =IF(N(C20)>0,C20/SUMIF($C$2:$C$501,">0"),"") | E20: =IF(N(C20)>0,(SUMIF($C$2:$C$501,">"&C20)+C20*(COUNTIF($C$2:C20,C20)-1))/SUMIF($C$2:$C$501,">0"),"") | F20: =IF(N(C20)>0,E20+D20,"") | G20: =IF(C20="","",IF(NOT(N(C20)>0),"C",IF(E20<$J$2,"A",IF(E20<$J$3,"B","C"))))
D21: =IF(N(C21)>0,C21/SUMIF($C$2:$C$501,">0"),"") | E21: =IF(N(C21)>0,(SUMIF($C$2:$C$501,">"&C21)+C21*(COUNTIF($C$2:C21,C21)-1))/SUMIF($C$2:$C$501,">0"),"") | F21: =IF(N(C21)>0,E21+D21,"") | G21: =IF(C21="","",IF(NOT(N(C21)>0),"C",IF(E21<$J$2,"A",IF(E21<$J$3,"B","C"))))
D22: =IF(N(C22)>0,C22/SUMIF($C$2:$C$501,">0"),"") | E22: =IF(N(C22)>0,(SUMIF($C$2:$C$501,">"&C22)+C22*(COUNTIF($C$2:C22,C22)-1))/SUMIF($C$2:$C$501,">0"),"") | F22: =IF(N(C22)>0,E22+D22,"") | G22: =IF(C22="","",IF(NOT(N(C22)>0),"C",IF(E22<$J$2,"A",IF(E22<$J$3,"B","C"))))
D23: =IF(N(C23)>0,C23/SUMIF($C$2:$C$501,">0"),"") | E23: =IF(N(C23)>0,(SUMIF($C$2:$C$501,">"&C23)+C23*(COUNTIF($C$2:C23,C23)-1))/SUMIF($C$2:$C$501,">0"),"") | F23: =IF(N(C23)>0,E23+D23,"") | G23: =IF(C23="","",IF(NOT(N(C23)>0),"C",IF(E23<$J$2,"A",IF(E23<$J$3,"B","C"))))
... D501: =IF(N(C501)>0,C501/SUMIF($C$2:$C$501,">0"),"") | E501: =IF(N(C501)>0,(SUMIF($C$2:$C$501,">"&C501)+C501*(COUNTIF($C$2:C501,C501)-1))/SUMIF($C$2:$C$501,">0"),"") | F501: =IF(N(C501)>0,E501+D501,"") | G501: =IF(C501="","",IF(NOT(N(C501)>0),"C",IF(E501<$J$2,"A",IF(E501<$J$3,"B","C"))))

Sheet Summary
A1: Class | B1: Items | C1: Share of items | D1: Value | E1: Share of value
A2: A | B2: =COUNTIF(ABC!$G$2:$G$501,A2) | C2: =IF(SUM($B$2:$B$4)=0,"",B2/SUM($B$2:$B$4)) | D2: =SUMIF(ABC!$G$2:$G$501,A2,ABC!$C$2:$C$501) | E2: =IF(SUM($D$2:$D$4)=0,"",D2/SUM($D$2:$D$4))
A3: B | B3: =COUNTIF(ABC!$G$2:$G$501,A3) | C3: =IF(SUM($B$2:$B$4)=0,"",B3/SUM($B$2:$B$4)) | D3: =SUMIF(ABC!$G$2:$G$501,A3,ABC!$C$2:$C$501) | E3: =IF(SUM($D$2:$D$4)=0,"",D3/SUM($D$2:$D$4))
A4: C | B4: =COUNTIF(ABC!$G$2:$G$501,A4) | C4: =IF(SUM($B$2:$B$4)=0,"",B4/SUM($B$2:$B$4)) | D4: =SUMIF(ABC!$G$2:$G$501,A4,ABC!$C$2:$C$501) | E4: =IF(SUM($D$2:$D$4)=0,"",D4/SUM($D$2:$D$4))

Sheet How to use
A1: ABC analysis template — by Golden Inventory (inventory-system.com)
A3: 1. Sheet ABC: one row per item. Type the yellow cells: the code, the item
A4: and its yearly value — the sales of a year, the gross profit of a year,
A5: or the units of a year × the unit cost. Use the same measure for all rows.
A6: 2. You do not need to sort. Each row finds the share of the items above it.
A7: 3. Class A: the items that hold the first 80 % of the value.
A8: Class B: the next 15 %. Class C: the rest, and every item with no value.
A9: The item that crosses a line stays in the upper class.
A10: Change the lines in J2 and J3.
A11: 4. Sheet Summary: the items and the value of each class.
A13: Yellow cells are yours to type in. The other cells hold formulas.
A15: Golden Inventory (Pro plan) classes your items by the gross profit of
... A18: Free plan, no card: https://inventory-system.com/app/inventory/register?from=/tools/abc-analysis/xlsx
